BEGIN:VCALENDAR
VERSION:2.0
PRODID:-//Spartanburg County Foundation - ECPv5.14.0.3//NONSGML v1.0//EN
CALSCALE:GREGORIAN
METHOD:PUBLISH
X-WR-CALNAME:Spartanburg County Foundation
X-ORIGINAL-URL:https://staging.spcf.org
X-WR-CALDESC:Events for Spartanburg County Foundation
BEGIN:VTIMEZONE
TZID:America/Halifax
BEGIN:DAYLIGHT
TZOFFSETFROM:-0400
TZOFFSETTO:-0300
TZNAME:ADT
DTSTART:20190310T060000
END:DAYLIGHT
BEGIN:STANDARD
TZOFFSETFROM:-0300
TZOFFSETTO:-0400
TZNAME:AST
DTSTART:20191103T050000
END:STANDARD
END:VTIMEZONE
BEGIN:VEVENT
DTSTART;TZID=America/Halifax:20190506T113000
DTEND;TZID=America/Halifax:20190506T133000
DTSTAMP:20260425T131207
CREATED:20190218T154653Z
LAST-MODIFIED:20190219T165605Z
UID:9875-1557142200-1557149400@staging.spcf.org
SUMMARY:WGFS Annual Meeting
DESCRIPTION:The Women Giving For Spartanburg Annual Meeting is a spring luncheon in which members celebrate their accomplishments for the year. The WGFS Annual meeting also recognizes local non-profits who are receiving grants. For more information visit Women Giving For Spartanburg.
URL:https://staging.spcf.org/event/wgfs-annual-meeting/
LOCATION:Piedmont Club\, 361 East Main Street\, Spartanburg\, SC\, 29302\, United States
CATEGORIES:Women Giving for Spartanburg Events
END:VEVENT
END:VCALENDAR