BEGIN:VCALENDAR
VERSION:2.0
PRODID:-//Spartanburg County Foundation - ECPv5.14.0.3//NONSGML v1.0//EN
CALSCALE:GREGORIAN
METHOD:PUBLISH
X-WR-CALNAME:Spartanburg County Foundation
X-ORIGINAL-URL:https://staging.spcf.org
X-WR-CALDESC:Events for Spartanburg County Foundation
BEGIN:VTIMEZONE
TZID:America/Halifax
BEGIN:DAYLIGHT
TZOFFSETFROM:-0400
TZOFFSETTO:-0300
TZNAME:ADT
DTSTART:20180311T060000
END:DAYLIGHT
BEGIN:STANDARD
TZOFFSETFROM:-0300
TZOFFSETTO:-0400
TZNAME:AST
DTSTART:20181104T050000
END:STANDARD
END:VTIMEZONE
BEGIN:VEVENT
DTSTART;TZID=America/Halifax:20181002T180000
DTEND;TZID=America/Halifax:20181002T193000
DTSTAMP:20260422T182222
CREATED:20180802T150653Z
LAST-MODIFIED:20180802T150653Z
UID:8956-1538503200-1538508600@staging.spcf.org
SUMMARY:Spartanburg Interfaith Alliance Potluck
DESCRIPTION:TOPIC:\nPotluck Talk: Sharing Your Faith Traditions \nSESSION DESCRIPTION:\nAs the Spartanburg Interfaith Alliance continues to grow and expand\, it’s important to take the time to build long-term relationships and get to know one another. What better way to connect than over a meal? Potlucks are fun and eventful gatherings with lots of delicious dishes! Join in a time of networking and fellowship. Bring your favorite dish to share and be ready to give a brief word or song that represents your faith tradition.
URL:https://staging.spcf.org/event/spartanburg-interfaith-alliance-potluck/
LOCATION:Macedonia Missionary Baptist Church\, 502 S. Daniel Morgan Ave\, Spartanburg\, SC\, 29306\, United States
CATEGORIES:Spartanburg Interfaith Alliance
END:VEVENT
END:VCALENDAR