BEGIN:VCALENDAR
VERSION:2.0
PRODID:-//Spartanburg County Foundation - ECPv5.14.0.3//NONSGML v1.0//EN
CALSCALE:GREGORIAN
METHOD:PUBLISH
X-WR-CALNAME:Spartanburg County Foundation
X-ORIGINAL-URL:https://staging.spcf.org
X-WR-CALDESC:Events for Spartanburg County Foundation
BEGIN:VTIMEZONE
TZID:America/Halifax
BEGIN:DAYLIGHT
TZOFFSETFROM:-0400
TZOFFSETTO:-0300
TZNAME:ADT
DTSTART:20180311T060000
END:DAYLIGHT
BEGIN:STANDARD
TZOFFSETFROM:-0300
TZOFFSETTO:-0400
TZNAME:AST
DTSTART:20181104T050000
END:STANDARD
END:VTIMEZONE
BEGIN:VEVENT
DTSTART;VALUE=DATE:20180415
DTEND;VALUE=DATE:20180419
DTSTAMP:20260423T005728
CREATED:20180802T145656Z
LAST-MODIFIED:20180802T145738Z
UID:8951-1523750400-1524095999@staging.spcf.org
SUMMARY:Spartanburg Interfaith Alliance Trip
DESCRIPTION:“A Pilgrimage of Peoples” Trip to Washington\, D.C.\nEVENT DESCRIPTION:\nThe Spartanburg Interfaith Alliance will travel to Washington\, D.C.\, to visit the Holocaust Museum\, The National Museum of African American History and Culture\, and the National Museum of the Native American Indians. This shared experience is designed to foster a greater understanding between faiths and create a greater sense of community. Space is limited. \nFor more information and to download the application\, please visit The Spartanburg County Foundation website at www.spcf.org.
URL:https://staging.spcf.org/event/spartanburg-interfaith-alliance-trip/
LOCATION:Open event for location details
CATEGORIES:Spartanburg Interfaith Alliance
END:VEVENT
END:VCALENDAR