BEGIN:VCALENDAR
VERSION:2.0
PRODID:-//Spartanburg County Foundation - ECPv5.14.0.3//NONSGML v1.0//EN
CALSCALE:GREGORIAN
METHOD:PUBLISH
X-WR-CALNAME:Spartanburg County Foundation
X-ORIGINAL-URL:https://staging.spcf.org
X-WR-CALDESC:Events for Spartanburg County Foundation
BEGIN:VTIMEZONE
TZID:America/Halifax
BEGIN:DAYLIGHT
TZOFFSETFROM:-0400
TZOFFSETTO:-0300
TZNAME:ADT
DTSTART:20200308T060000
END:DAYLIGHT
BEGIN:STANDARD
TZOFFSETFROM:-0300
TZOFFSETTO:-0400
TZNAME:AST
DTSTART:20201101T050000
END:STANDARD
END:VTIMEZONE
BEGIN:VEVENT
DTSTART;TZID=America/Halifax:20201022T100000
DTEND;TZID=America/Halifax:20201022T110000
DTSTAMP:20260421T154352
CREATED:20191217T190539Z
LAST-MODIFIED:20191217T190539Z
UID:10314-1603360800-1603364400@staging.spcf.org
SUMMARY:Spartanburg Interfaith Alliance - Opportunities for Community Involvement
DESCRIPTION:Facilitators: Meghan Smith & Savannah Ray\, Spartanburg Academic Movement (SAM)\nSession Description: Learn more about the Spartanburg Academic Movement “Out of School Time Collaborative and how the Spartanburg Interfaith Alliance can support this growing initiative on the “Out of School Time Collaboration”.
URL:https://staging.spcf.org/event/spartanburg-interfaith-alliance-opportunities-for-community-involvement/
LOCATION:Silver Hill United Methodist Church\, 778 John B. White Sr. Blvd\, Spartanburg\, SC\, 29306\, United States
END:VEVENT
END:VCALENDAR