BEGIN:VCALENDAR
VERSION:2.0
PRODID:-//Spartanburg County Foundation - ECPv5.14.0.3//NONSGML v1.0//EN
CALSCALE:GREGORIAN
METHOD:PUBLISH
X-WR-CALNAME:Spartanburg County Foundation
X-ORIGINAL-URL:https://staging.spcf.org
X-WR-CALDESC:Events for Spartanburg County Foundation
BEGIN:VTIMEZONE
TZID:America/Halifax
BEGIN:DAYLIGHT
TZOFFSETFROM:-0400
TZOFFSETTO:-0300
TZNAME:ADT
DTSTART:20200308T060000
END:DAYLIGHT
BEGIN:STANDARD
TZOFFSETFROM:-0300
TZOFFSETTO:-0400
TZNAME:AST
DTSTART:20201101T050000
END:STANDARD
END:VTIMEZONE
BEGIN:VEVENT
DTSTART;TZID=America/Halifax:20200819T120000
DTEND;TZID=America/Halifax:20200819T130000
DTSTAMP:20260423T092737
CREATED:20191217T155533Z
LAST-MODIFIED:20200303T131404Z
UID:10302-1597838400-1597842000@staging.spcf.org
SUMMARY:Nonprofit Connect - Defining Roles - Contract Labor vs. Employee and the Differences You Need to Know
DESCRIPTION:Speaker: Kristin Starnes Gray\, Attorney\, FordHarrison LLP\nSession Description: Are you short-staffed and in need of extra help?  Looking to add onto your staff but not sure what role is best?  In this session\, attendees will explore the differences in contract labor and full- or part-time positions.  In addition to learning the do’s and don’ts when it comes to establishing certain roles at your organization.
URL:https://staging.spcf.org/event/nonprofit-connect-defining-roles-contract-labor-vs-employee-and-the-differences-you-need-to-know/
LOCATION:The Spartanburg County Foundation\, 424 E. Kennedy Street\, Spartanburg\, SC\, 29302\, United States
END:VEVENT
END:VCALENDAR