BEGIN:VCALENDAR
VERSION:2.0
PRODID:-//Spartanburg County Foundation - ECPv5.14.0.3//NONSGML v1.0//EN
CALSCALE:GREGORIAN
METHOD:PUBLISH
X-WR-CALNAME:Spartanburg County Foundation
X-ORIGINAL-URL:https://staging.spcf.org
X-WR-CALDESC:Events for Spartanburg County Foundation
BEGIN:VTIMEZONE
TZID:America/Halifax
BEGIN:DAYLIGHT
TZOFFSETFROM:-0400
TZOFFSETTO:-0300
TZNAME:ADT
DTSTART:20200308T060000
END:DAYLIGHT
BEGIN:STANDARD
TZOFFSETFROM:-0300
TZOFFSETTO:-0400
TZNAME:AST
DTSTART:20201101T050000
END:STANDARD
END:VTIMEZONE
BEGIN:VEVENT
DTSTART;TZID=America/Halifax:20200617T120000
DTEND;TZID=America/Halifax:20200617T130000
DTSTAMP:20260423T123948
CREATED:20191217T155436Z
LAST-MODIFIED:20200303T131318Z
UID:10301-1592395200-1592398800@staging.spcf.org
SUMMARY:Nonprofit Connect - Is Your Board Geared for Success?
DESCRIPTION:Speaker:  Arnold Kimmons\, SC Area Director\, Mission Increase of South Carolina\nSession Description:  A strong board structure is integral to any organization’s success; however\, one board structure does not fit all.  Take a deep dive into effective board structure models and learn how to gear your board for success!
URL:https://staging.spcf.org/event/nonprofit-connect-is-your-board-geared-for-success/
LOCATION:The Spartanburg County Foundation\, 424 E. Kennedy Street\, Spartanburg\, SC\, 29302\, United States
END:VEVENT
END:VCALENDAR