BEGIN:VCALENDAR
VERSION:2.0
PRODID:-//Spartanburg County Foundation - ECPv5.14.0.3//NONSGML v1.0//EN
CALSCALE:GREGORIAN
METHOD:PUBLISH
X-WR-CALNAME:Spartanburg County Foundation
X-ORIGINAL-URL:https://staging.spcf.org
X-WR-CALDESC:Events for Spartanburg County Foundation
BEGIN:VTIMEZONE
TZID:America/Halifax
BEGIN:DAYLIGHT
TZOFFSETFROM:-0400
TZOFFSETTO:-0300
TZNAME:ADT
DTSTART:20200308T060000
END:DAYLIGHT
BEGIN:STANDARD
TZOFFSETFROM:-0300
TZOFFSETTO:-0400
TZNAME:AST
DTSTART:20201101T050000
END:STANDARD
END:VTIMEZONE
BEGIN:VEVENT
DTSTART;VALUE=DATE:20200604
DTEND;VALUE=DATE:20200605
DTSTAMP:20260423T122258
CREATED:20191217T173500Z
LAST-MODIFIED:20191217T173728Z
UID:10308-1591228800-1591315199@staging.spcf.org
SUMMARY:Spartanburg Interfaith Alliance - Day Trip - Martin Luther King\, Jr. Museum
DESCRIPTION:Topic: Day Trip: Martin Luther King\, Jr. Museum\nSession Description: The Spartanburg Interfaith Alliance invites you to join them as they take a one-day trip to Atlanta\, Georgia to learn more about the African American struggle for civil rights in America and the role that religion played in that struggle. Explore Dr. King’s church where he shared a pulpit with his father for eight years. Learn more about the roots of the man who inspired hundreds to boycott and march for their basic civil rights. *Trip Fee Required*
URL:https://staging.spcf.org/event/spartanburg-interfaith-alliance-day-trip-martin-luther-king-jr-museum/
LOCATION:Martin Luther King\, Jr. National Historical Park\, 450 Auburn Ave NE\, Atlanta\, GA\, 30312\, United States
END:VEVENT
END:VCALENDAR