BEGIN:VCALENDAR
VERSION:2.0
PRODID:-//Spartanburg County Foundation - ECPv5.14.0.3//NONSGML v1.0//EN
CALSCALE:GREGORIAN
METHOD:PUBLISH
X-WR-CALNAME:Spartanburg County Foundation
X-ORIGINAL-URL:https://staging.spcf.org
X-WR-CALDESC:Events for Spartanburg County Foundation
BEGIN:VTIMEZONE
TZID:America/Halifax
BEGIN:DAYLIGHT
TZOFFSETFROM:-0400
TZOFFSETTO:-0300
TZNAME:ADT
DTSTART:20200308T060000
END:DAYLIGHT
BEGIN:STANDARD
TZOFFSETFROM:-0300
TZOFFSETTO:-0400
TZNAME:AST
DTSTART:20201101T050000
END:STANDARD
END:VTIMEZONE
BEGIN:VEVENT
DTSTART;TZID=America/Halifax:20200401T120000
DTEND;TZID=America/Halifax:20200401T133000
DTSTAMP:20260423T151046
CREATED:20191217T145332Z
LAST-MODIFIED:20200317T174700Z
UID:10289-1585742400-1585747800@staging.spcf.org
SUMMARY:CANCELLED: Lenten Worship & Luncheon Series 
DESCRIPTION:Experience the tradition of the Lenten Season! The Spartanburg Interfaith Alliance will host six worship and lunch sessions where attendees have the chance to fellowship and learn more about the Lenten tradition. Host: The Palmetto Moravian Fellowship
URL:https://staging.spcf.org/event/lenten-worship-luncheon-series-6/
LOCATION:Central United Methodist Church\, 233 N Church Street\, Spartanburg\, SC\, 29306\, United States
END:VEVENT
END:VCALENDAR