BEGIN:VCALENDAR
VERSION:2.0
PRODID:-//Spartanburg County Foundation - ECPv5.14.0.3//NONSGML v1.0//EN
CALSCALE:GREGORIAN
METHOD:PUBLISH
X-WR-CALNAME:Spartanburg County Foundation
X-ORIGINAL-URL:https://staging.spcf.org
X-WR-CALDESC:Events for Spartanburg County Foundation
BEGIN:VTIMEZONE
TZID:America/Halifax
BEGIN:DAYLIGHT
TZOFFSETFROM:-0400
TZOFFSETTO:-0300
TZNAME:ADT
DTSTART:20200308T060000
END:DAYLIGHT
BEGIN:STANDARD
TZOFFSETFROM:-0300
TZOFFSETTO:-0400
TZNAME:AST
DTSTART:20201101T050000
END:STANDARD
END:VTIMEZONE
BEGIN:VEVENT
DTSTART;TZID=America/Halifax:20200311T120000
DTEND;TZID=America/Halifax:20200311T133000
DTSTAMP:20260423T162743
CREATED:20191217T144613Z
LAST-MODIFIED:20191217T144613Z
UID:10283-1583928000-1583933400@staging.spcf.org
SUMMARY:Lenten Worship & Luncheon Series 
DESCRIPTION:Experience the tradition of the Lenten Season! The Spartanburg Interfaith Alliance will host six worship and lunch sessions where attendees have the chance to fellowship and learn more about the Lenten tradition.
URL:https://staging.spcf.org/event/lenten-worship-luncheon-series-3/
LOCATION:The Episcopal Church of the Advent\, 141 Advent Street\, Spartanburg\, SC\, 29302\, United States
END:VEVENT
BEGIN:VEVENT
DTSTART;TZID=America/Halifax:20200311T120000
DTEND;TZID=America/Halifax:20200311T130000
DTSTAMP:20260423T162743
CREATED:20191217T153039Z
LAST-MODIFIED:20200303T130447Z
UID:10296-1583928000-1583931600@staging.spcf.org
SUMMARY:Nonprofit Connect - 2020 Census: What Nonprofits Need to Know
DESCRIPTION:Speaker: Andy Flynt\, Director of Information Services\, Spartanburg County Libraries and Chair of the Spartanburg Complete Count Committee\nSession Description:  It’s that time again\, the 2020 Census is upon us!  Hear from the Spartanburg County Complete Count Committee Chair\, Andy Flynt\, on why your input and action is needed as a nonprofit organization. The Complete Count Committee assists in the overall awareness of the 2020 Census campaign\, while utilizing knowledge of the local community to encourage impactful response.  Learn how the 2020 Census data will determine and influence several factors including distribution of Federal funding in SC\, community planning for school and hospitals\, and so much more. Everyone counts!
URL:https://staging.spcf.org/event/nonprofit-connect-2020-census-what-nonprofits-need-to-know/
LOCATION:The Spartanburg County Foundation\, 424 E. Kennedy Street\, Spartanburg\, SC\, 29302\, United States
END:VEVENT
END:VCALENDAR