BEGIN:VCALENDAR
VERSION:2.0
PRODID:-//Spartanburg County Foundation - ECPv5.14.0.3//NONSGML v1.0//EN
CALSCALE:GREGORIAN
METHOD:PUBLISH
X-WR-CALNAME:Spartanburg County Foundation
X-ORIGINAL-URL:https://staging.spcf.org
X-WR-CALDESC:Events for Spartanburg County Foundation
BEGIN:VTIMEZONE
TZID:America/Halifax
BEGIN:DAYLIGHT
TZOFFSETFROM:-0400
TZOFFSETTO:-0300
TZNAME:ADT
DTSTART:20200308T060000
END:DAYLIGHT
BEGIN:STANDARD
TZOFFSETFROM:-0300
TZOFFSETTO:-0400
TZNAME:AST
DTSTART:20201101T050000
END:STANDARD
END:VTIMEZONE
BEGIN:VEVENT
DTSTART;TZID=America/Halifax:20200226T130000
DTEND;TZID=America/Halifax:20200226T143000
DTSTAMP:20260423T162658
CREATED:20191217T144211Z
LAST-MODIFIED:20191217T144211Z
UID:10281-1582722000-1582727400@staging.spcf.org
SUMMARY:Lenten Worship & Luncheon Series 
DESCRIPTION:Experience the tradition of the Lenten Season! The Spartanburg Interfaith Alliance will host six worship and lunch sessions where attendees have the chance to fellowship and learn more about the Lenten tradition. *No lunch this week as some denominations fast this day
URL:https://staging.spcf.org/event/lenten-worship-luncheon-series/
LOCATION:St. Paul the Apostle Catholic Church\, 290 East Main Street\, Spartanburg\, SC\, 29302\, United States
END:VEVENT
END:VCALENDAR