BEGIN:VCALENDAR
VERSION:2.0
PRODID:-//Spartanburg County Foundation - ECPv5.14.0.3//NONSGML v1.0//EN
CALSCALE:GREGORIAN
METHOD:PUBLISH
X-WR-CALNAME:Spartanburg County Foundation
X-ORIGINAL-URL:https://staging.spcf.org
X-WR-CALDESC:Events for Spartanburg County Foundation
BEGIN:VTIMEZONE
TZID:America/Halifax
BEGIN:DAYLIGHT
TZOFFSETFROM:-0400
TZOFFSETTO:-0300
TZNAME:ADT
DTSTART:20200308T060000
END:DAYLIGHT
BEGIN:STANDARD
TZOFFSETFROM:-0300
TZOFFSETTO:-0400
TZNAME:AST
DTSTART:20201101T050000
END:STANDARD
END:VTIMEZONE
BEGIN:VEVENT
DTSTART;TZID=America/Halifax:20200116T120000
DTEND;TZID=America/Halifax:20200116T130000
DTSTAMP:20260423T184738
CREATED:20190829T173314Z
LAST-MODIFIED:20190829T173314Z
UID:10182-1579176000-1579179600@staging.spcf.org
SUMMARY:Spartanburg Interfaith Alliance 2019-2020 Reading Group
DESCRIPTION:Second Book\n“The Second Mountain” by David Brooks\n(A book about character\, vocation\, and service to others as a counterpoint to the fraught year of political campaigns before us)\nFacilitator- Reverend Scott Neely
URL:https://staging.spcf.org/event/spartanburg-interfaith-alliance-2019-2020-reading-group-3/
LOCATION:New Day Baptist Church\, 2090 S Church St Ext\, Spartanburg\, SC\, 29306\, United States
END:VEVENT
END:VCALENDAR