BEGIN:VCALENDAR
VERSION:2.0
PRODID:-//Spartanburg County Foundation - ECPv5.14.0.3//NONSGML v1.0//EN
CALSCALE:GREGORIAN
METHOD:PUBLISH
X-WR-CALNAME:Spartanburg County Foundation
X-ORIGINAL-URL:https://staging.spcf.org
X-WR-CALDESC:Events for Spartanburg County Foundation
BEGIN:VTIMEZONE
TZID:America/Halifax
BEGIN:DAYLIGHT
TZOFFSETFROM:-0400
TZOFFSETTO:-0300
TZNAME:ADT
DTSTART:20190310T060000
END:DAYLIGHT
BEGIN:STANDARD
TZOFFSETFROM:-0300
TZOFFSETTO:-0400
TZNAME:AST
DTSTART:20191103T050000
END:STANDARD
END:VTIMEZONE
BEGIN:VEVENT
DTSTART;TZID=America/Halifax:20190426T170000
DTEND;TZID=America/Halifax:20190426T210000
DTSTAMP:20260425T184427
CREATED:20190430T153431Z
LAST-MODIFIED:20190430T153431Z
UID:9967-1556298000-1556312400@staging.spcf.org
SUMMARY:GLAA - Tailgating at the Spartanburg Crit
DESCRIPTION:Event: Tailgating at the Spartanburg Crit \nLocation: Downtown Spartanburg (Tent M2) \nSession Description: Join us for a time of networking and fun at the annual Spartanburg Crit\, a closed-circuit\, multi-lap cycling race through Downtown Spartanburg that is hosted as part of Spartanburg’s Spring Fling weekend. Reconnect with other GLDI alumni\, meet this year’s class\, and connect with the community as you watch cyclists race around the half-mile downtown course. The Grassroots Leadership Alumni Association will have a special tent set up along the course\, so drop in and say hello. The Crit consists of 6 races – four amateur and two professional\, with the first race starting at 4 PM.
URL:https://staging.spcf.org/event/glaa-tailgating-at-the-spartanburg-crit/
LOCATION:Downtown Spartanburg
CATEGORIES:Grassroots Leadership Alumni Association Schedule
END:VEVENT
END:VCALENDAR