BEGIN:VCALENDAR
VERSION:2.0
PRODID:-//Spartanburg County Foundation - ECPv5.14.0.3//NONSGML v1.0//EN
CALSCALE:GREGORIAN
METHOD:PUBLISH
X-WR-CALNAME:Spartanburg County Foundation
X-ORIGINAL-URL:https://staging.spcf.org
X-WR-CALDESC:Events for Spartanburg County Foundation
BEGIN:VTIMEZONE
TZID:America/Halifax
BEGIN:DAYLIGHT
TZOFFSETFROM:-0400
TZOFFSETTO:-0300
TZNAME:ADT
DTSTART:20190310T060000
END:DAYLIGHT
BEGIN:STANDARD
TZOFFSETFROM:-0300
TZOFFSETTO:-0400
TZNAME:AST
DTSTART:20191103T050000
END:STANDARD
END:VTIMEZONE
BEGIN:VEVENT
DTSTART;TZID=America/Halifax:20190424T120000
DTEND;TZID=America/Halifax:20190424T130000
DTSTAMP:20260425T184625
CREATED:20190430T160351Z
LAST-MODIFIED:20190430T160351Z
UID:9976-1556107200-1556110800@staging.spcf.org
SUMMARY:Nonprofit Connect - Mastering the Multi-Generational Workplace: How to Connect the Dots
DESCRIPTION:Topic: Mastering the Multi-Generational Workplace: How to Connect the Dots \nSpeaker: Alphonso Atkins\, Jr.\, Chief Diversity Officer\, USC Upstate \nSession Description: The workplace is changing at a rapid pace and is filled with multiple generations: Baby Boomers\, Generation X\, Millennial\, and Generation Z. All have a distinct set of values\, norms\, and behaviors. Multi-generational workplaces must understand that one-size does not fit all. Learn key patterns about each generation and how to connect the dots to create a collaborative and cohesive work environment.
URL:https://staging.spcf.org/event/nonprofit-connect-mastering-the-multi-generational-workplace-how-to-connect-the-dots/
LOCATION:The Spartanburg County Foundation\, 424 E. Kennedy Street\, Spartanburg\, SC\, 29302\, United States
CATEGORIES:Nonprofit Connect Schedule
END:VEVENT
END:VCALENDAR