BEGIN:VCALENDAR
VERSION:2.0
PRODID:-//Spartanburg County Foundation - ECPv5.14.0.3//NONSGML v1.0//EN
CALSCALE:GREGORIAN
METHOD:PUBLISH
X-WR-CALNAME:Spartanburg County Foundation
X-ORIGINAL-URL:https://staging.spcf.org
X-WR-CALDESC:Events for Spartanburg County Foundation
BEGIN:VTIMEZONE
TZID:America/Halifax
BEGIN:DAYLIGHT
TZOFFSETFROM:-0400
TZOFFSETTO:-0300
TZNAME:ADT
DTSTART:20190310T060000
END:DAYLIGHT
BEGIN:STANDARD
TZOFFSETFROM:-0300
TZOFFSETTO:-0400
TZNAME:AST
DTSTART:20191103T050000
END:STANDARD
END:VTIMEZONE
BEGIN:VEVENT
DTSTART;TZID=America/Halifax:20190329T120000
DTEND;TZID=America/Halifax:20190329T130000
DTSTAMP:20260425T195644
CREATED:20190430T153135Z
LAST-MODIFIED:20190430T154101Z
UID:9965-1553860800-1553864400@staging.spcf.org
SUMMARY:GLAA - Refining Your Personal Mission Statement
DESCRIPTION:Event: Refining Your Personal Mission Statement \nSpeaker: Dr. Melissa Walker\, Founder\, Heyday Coaching\, LLC \nLocation: Thomas E. Hannah YMCA (151 Ribault Street\, Spartanburg)\nSession Description: At some point in your life\, you’ve probably given a lot of thought to what your personal mission statement is. You’ve set goals. You’ve held tight to your values. Then one day\, you wake up and realize that life has become a repetitious pattern. Sure\, you are doing great things in the community\, but something is missing. Maybe it’s time to reflect back on your personal mission statement and re-evaluate your goals and values. This session will allow you that time of reflection\, to recraft your life mission statement\, and to evaluate what’s really important to you.
URL:https://staging.spcf.org/event/glaa-refining-your-personal-mission-statement/
LOCATION:The Spartanburg County Foundation\, 424 E. Kennedy Street\, Spartanburg\, SC\, 29302\, United States
CATEGORIES:Grassroots Leadership Alumni Association Schedule
END:VEVENT
END:VCALENDAR