BEGIN:VCALENDAR
VERSION:2.0
PRODID:-//Spartanburg County Foundation - ECPv5.14.0.3//NONSGML v1.0//EN
CALSCALE:GREGORIAN
METHOD:PUBLISH
X-WR-CALNAME:Spartanburg County Foundation
X-ORIGINAL-URL:https://staging.spcf.org
X-WR-CALDESC:Events for Spartanburg County Foundation
BEGIN:VTIMEZONE
TZID:America/Halifax
BEGIN:DAYLIGHT
TZOFFSETFROM:-0400
TZOFFSETTO:-0300
TZNAME:ADT
DTSTART:20190310T060000
END:DAYLIGHT
BEGIN:STANDARD
TZOFFSETFROM:-0300
TZOFFSETTO:-0400
TZNAME:AST
DTSTART:20191103T050000
END:STANDARD
END:VTIMEZONE
BEGIN:VEVENT
DTSTART;TZID=America/Halifax:20190327T120000
DTEND;TZID=America/Halifax:20190327T130000
DTSTAMP:20260425T195704
CREATED:20190430T160206Z
LAST-MODIFIED:20190430T160206Z
UID:9974-1553688000-1553691600@staging.spcf.org
SUMMARY:Nonprofit Connect - Nonprofit Legal Compliance 101
DESCRIPTION:Topic: Nonprofit Legal Compliance 101  \nSpeakers: Suzy Cole and Andrea Moore\, Attorneys\, Village Legal Hub \nSession Description: What are the specific legal requirements of operating a nonprofit? Is your organization up-to-date with current laws and regulations? Join two of Spartanburg’s attorneys who have also served as nonprofit executive directors for a check-up on the proper health of your nonprofit organization. They’ve walked in your shoes and bring a whole new perspective on how to protect your organization.
URL:https://staging.spcf.org/event/nonprofit-connect-nonprofit-legal-compliance-101/
LOCATION:Spartanburg Herald Journal – Community Room
CATEGORIES:Nonprofit Connect Schedule
END:VEVENT
END:VCALENDAR