BEGIN:VCALENDAR
VERSION:2.0
PRODID:-//Spartanburg County Foundation - ECPv5.14.0.3//NONSGML v1.0//EN
CALSCALE:GREGORIAN
METHOD:PUBLISH
X-WR-CALNAME:Spartanburg County Foundation
X-ORIGINAL-URL:https://staging.spcf.org
X-WR-CALDESC:Events for Spartanburg County Foundation
BEGIN:VTIMEZONE
TZID:America/Halifax
BEGIN:DAYLIGHT
TZOFFSETFROM:-0400
TZOFFSETTO:-0300
TZNAME:ADT
DTSTART:20190310T060000
END:DAYLIGHT
BEGIN:STANDARD
TZOFFSETFROM:-0300
TZOFFSETTO:-0400
TZNAME:AST
DTSTART:20191103T050000
END:STANDARD
END:VTIMEZONE
BEGIN:VEVENT
DTSTART;TZID=America/Halifax:20190326T180000
DTEND;TZID=America/Halifax:20190326T203000
DTSTAMP:20260425T195821
CREATED:20190213T132012Z
LAST-MODIFIED:20190213T132012Z
UID:9857-1553623200-1553632200@staging.spcf.org
SUMMARY:2019 Annual Meeting
DESCRIPTION:THANK YOU to the donors and fundholders who have made everything we do possible.As we look forward to what 2019 holds\, we invite you to also take a look at the milestones we have accomplished together. Our community of donors\, fundholders and philanthropic leaders inspire us to do this work every day. \nOur community thanks you for your continued support in building a future for philanthropy in Spartanburg County. \nJoin us as we come together and look at what you have accomplished.
URL:https://staging.spcf.org/event/2019-annual-meeting/
LOCATION:Spartanburg Marriott\, 299 North Church Street\, Spartanburg\, SC\, 29306\, United States
END:VEVENT
END:VCALENDAR