BEGIN:VCALENDAR
VERSION:2.0
PRODID:-//Spartanburg County Foundation - ECPv5.14.0.3//NONSGML v1.0//EN
CALSCALE:GREGORIAN
METHOD:PUBLISH
X-WR-CALNAME:Spartanburg County Foundation
X-ORIGINAL-URL:https://staging.spcf.org
X-WR-CALDESC:Events for Spartanburg County Foundation
BEGIN:VTIMEZONE
TZID:America/Halifax
BEGIN:DAYLIGHT
TZOFFSETFROM:-0400
TZOFFSETTO:-0300
TZNAME:ADT
DTSTART:20180311T060000
END:DAYLIGHT
BEGIN:STANDARD
TZOFFSETFROM:-0300
TZOFFSETTO:-0400
TZNAME:AST
DTSTART:20181104T050000
END:STANDARD
END:VTIMEZONE
BEGIN:VEVENT
DTSTART;TZID=America/Halifax:20180530T083000
DTEND;TZID=America/Halifax:20180530T093000
DTSTAMP:20260422T225623
CREATED:20180802T150055Z
LAST-MODIFIED:20180802T150118Z
UID:8953-1527669000-1527672600@staging.spcf.org
SUMMARY:Spartanburg Interfaith Alliance Meeting
DESCRIPTION:TOPIC:\nBuilding Bridges Across Faith Communities: Reflections from the Pilgrimage of Peoples \nSPEAKERS:\nPanel of Pilgrimage Representatives \nSESSION DESCRIPTION:\nIn April\, the Spartanburg Interfaith Alliance will travel to Washington\, D.C.\, to visit several museums for a “Pilgrimage of the Peoples” Trip. Whether you participate in the trip or not\, there will be valuable lessons to be learned. Join us as a panel of Pilgrimage representatives reflect on their unifying experience of witnessing history together.
URL:https://staging.spcf.org/event/spartanburg-interfaith-alliance-meeting-2/
LOCATION:First Presbyterian Church of Spartanburg\, 393 East Main Street\, Spartanburg\, SC\, 29302\, United States
CATEGORIES:Spartanburg Interfaith Alliance
END:VEVENT
END:VCALENDAR