BEGIN:VCALENDAR
VERSION:2.0
PRODID:-//Spartanburg County Foundation - ECPv5.14.0.3//NONSGML v1.0//EN
CALSCALE:GREGORIAN
METHOD:PUBLISH
X-WR-CALNAME:Spartanburg County Foundation
X-ORIGINAL-URL:https://staging.spcf.org
X-WR-CALDESC:Events for Spartanburg County Foundation
BEGIN:VTIMEZONE
TZID:America/Halifax
BEGIN:DAYLIGHT
TZOFFSETFROM:-0400
TZOFFSETTO:-0300
TZNAME:ADT
DTSTART:20190310T060000
END:DAYLIGHT
BEGIN:STANDARD
TZOFFSETFROM:-0300
TZOFFSETTO:-0400
TZNAME:AST
DTSTART:20191103T050000
END:STANDARD
END:VTIMEZONE
BEGIN:VEVENT
DTSTART;TZID=America/Halifax:20191017T110000
DTEND;TZID=America/Halifax:20191017T120000
DTSTAMP:20260422T065923
CREATED:20190829T172721Z
LAST-MODIFIED:20190829T172721Z
UID:10181-1571310000-1571313600@staging.spcf.org
SUMMARY:Spartanburg Interfaith Alliance 2019-2020 Reading Group
DESCRIPTION:First Book\n“Jesus & the Disinherited” by Howard Thurman\nFacilitator – Reverend Dr. James Hailstock\nFirst Presbyterian Church in Large Private Dining Room\n \n 
URL:https://staging.spcf.org/event/spartanburg-interfaith-alliance-2019-2020-reading-group-2/
LOCATION:First Presbyterian Church of Spartanburg\, 393 East Main Street\, Spartanburg\, SC\, 29302\, United States
END:VEVENT
END:VCALENDAR