BEGIN:VCALENDAR
VERSION:2.0
PRODID:-//Spartanburg County Foundation - ECPv5.14.0.3//NONSGML v1.0//EN
CALSCALE:GREGORIAN
METHOD:PUBLISH
X-WR-CALNAME:Spartanburg County Foundation
X-ORIGINAL-URL:https://staging.spcf.org
X-WR-CALDESC:Events for Spartanburg County Foundation
BEGIN:VTIMEZONE
TZID:America/Halifax
BEGIN:DAYLIGHT
TZOFFSETFROM:-0400
TZOFFSETTO:-0300
TZNAME:ADT
DTSTART:20190310T060000
END:DAYLIGHT
BEGIN:STANDARD
TZOFFSETFROM:-0300
TZOFFSETTO:-0400
TZNAME:AST
DTSTART:20191103T050000
END:STANDARD
END:VTIMEZONE
BEGIN:VEVENT
DTSTART;TZID=America/Halifax:20190918T120000
DTEND;TZID=America/Halifax:20190918T130000
DTSTAMP:20260422T083453
CREATED:20190502T145843Z
LAST-MODIFIED:20190610T160616Z
UID:9999-1568808000-1568811600@staging.spcf.org
SUMMARY:Nonprofit Connect - Social Media:  Best practices for Nonprofit Organizations
DESCRIPTION:Topic: Social Media: Best practices for Nonprofit Organizations \nSpeaker: Taylor Brown\, President Digital Operations and Luke Connell\, Chief Communications Officer\, The Palladian Group \nSession Description: Join us and learn how to expand your social media presence. This session will help you better understand how to leverage the power of social media and to keep up with the constant changes. Understand the best ways to help grow your audience and engagement. Learn the latest social media trends and how to measure the awareness of your nonprofit’s reach with impressions and views of your social content.\n \nClick here to register for this event.
URL:https://staging.spcf.org/event/nonprofit-connect-social-media-best-practices-for-nonprofit-organizations/
CATEGORIES:Nonprofit Connect Schedule
END:VEVENT
END:VCALENDAR