BEGIN:VCALENDAR
VERSION:2.0
PRODID:-//Spartanburg County Foundation - ECPv5.14.0.3//NONSGML v1.0//EN
CALSCALE:GREGORIAN
METHOD:PUBLISH
X-WR-CALNAME:Spartanburg County Foundation
X-ORIGINAL-URL:https://staging.spcf.org
X-WR-CALDESC:Events for Spartanburg County Foundation
BEGIN:VTIMEZONE
TZID:America/Halifax
BEGIN:DAYLIGHT
TZOFFSETFROM:-0400
TZOFFSETTO:-0300
TZNAME:ADT
DTSTART:20180311T060000
END:DAYLIGHT
BEGIN:STANDARD
TZOFFSETFROM:-0300
TZOFFSETTO:-0400
TZNAME:AST
DTSTART:20181104T050000
END:STANDARD
END:VTIMEZONE
BEGIN:VEVENT
DTSTART;TZID=America/Halifax:20180614T120000
DTEND;TZID=America/Halifax:20180614T133000
DTSTAMP:20260422T225750
CREATED:20180405T170137Z
LAST-MODIFIED:20180801T142226Z
UID:7504-1528977600-1528983000@staging.spcf.org
SUMMARY:Nonprofit Connect Meeting (Special Session)
DESCRIPTION:TOPIC:\nPrioritizing Yourself: A Special Self-Care Session (Executive Directors and CEOs Only) \nSPEAKER:\nDr. Melissa Walker\, Ph.D.\, Founder\, Heyday Coaching LLC \nSESSION DESCRIPTION:\nExecutive directors and CEOs wear many hats and often times find themselves stretched thin. Self-care gets pushed to the back burner along with “your best self.” We see your hard work and invite you to join us for an inspirational session where you can relax and recharge with your peers. This is a time to give yourself the attention\, compassion\, time\, and energy that you deserve!
URL:https://staging.spcf.org/event/nonprofit-connect-meeting-special-session-2/
LOCATION:The Spartanburg County Foundation\, 424 E. Kennedy Street\, Spartanburg\, SC\, 29302\, United States
CATEGORIES:Nonprofit Connect Schedule
END:VEVENT
END:VCALENDAR