BEGIN:VCALENDAR
VERSION:2.0
PRODID:-//Spartanburg County Foundation - ECPv5.14.0.3//NONSGML v1.0//EN
CALSCALE:GREGORIAN
METHOD:PUBLISH
X-WR-CALNAME:Spartanburg County Foundation
X-ORIGINAL-URL:https://staging.spcf.org
X-WR-CALDESC:Events for Spartanburg County Foundation
BEGIN:VTIMEZONE
TZID:America/Halifax
BEGIN:DAYLIGHT
TZOFFSETFROM:-0400
TZOFFSETTO:-0300
TZNAME:ADT
DTSTART:20180311T060000
END:DAYLIGHT
BEGIN:STANDARD
TZOFFSETFROM:-0300
TZOFFSETTO:-0400
TZNAME:AST
DTSTART:20181104T050000
END:STANDARD
END:VTIMEZONE
BEGIN:VEVENT
DTSTART;TZID=America/Halifax:20180419T120000
DTEND;TZID=America/Halifax:20180419T130000
DTSTAMP:20260423T010203
CREATED:20180405T165929Z
LAST-MODIFIED:20180801T142238Z
UID:7502-1524139200-1524142800@staging.spcf.org
SUMMARY:Nonprofit Connect Meeting
DESCRIPTION:TOPIC:\nCreating a Culture that Inspires \nSPEAKER:\nArnold Kimmons\, Coach\, Ministry Ventures \nSESSION DESCRIPTION:\nEvery organization has a culture\, and that culture shapes everything it does. Culture will develop by chance\, or it can be intentionally designed by visionary leaders. Join us to learn how you can create an inspiring culture for your nonprofit.
URL:https://staging.spcf.org/event/nonprofit-connect-meeting-3/
LOCATION:The Spartanburg County Foundation\, 424 E. Kennedy Street\, Spartanburg\, SC\, 29302\, United States
CATEGORIES:Nonprofit Connect Schedule
END:VEVENT
END:VCALENDAR