BEGIN:VCALENDAR
VERSION:2.0
PRODID:-//Spartanburg County Foundation - ECPv5.14.0.3//NONSGML v1.0//EN
CALSCALE:GREGORIAN
METHOD:PUBLISH
X-WR-CALNAME:Spartanburg County Foundation
X-ORIGINAL-URL:https://staging.spcf.org
X-WR-CALDESC:Events for Spartanburg County Foundation
BEGIN:VTIMEZONE
TZID:America/Halifax
BEGIN:DAYLIGHT
TZOFFSETFROM:-0400
TZOFFSETTO:-0300
TZNAME:ADT
DTSTART:20180311T060000
END:DAYLIGHT
BEGIN:STANDARD
TZOFFSETFROM:-0300
TZOFFSETTO:-0400
TZNAME:AST
DTSTART:20181104T050000
END:STANDARD
END:VTIMEZONE
BEGIN:VEVENT
DTSTART;TZID=America/Halifax:20180418T173000
DTEND;TZID=America/Halifax:20180418T190000
DTSTAMP:20260423T020632
CREATED:20180721T130419Z
LAST-MODIFIED:20180721T131927Z
UID:8808-1524072600-1524078000@staging.spcf.org
SUMMARY:GLAA: Speed Networking – Connect with Fellow Alumni
DESCRIPTION:SESSION DESCRIPTION:\nAre you looking to expand your network in Spartanburg County? You can start by connecting with fellow Grassroots Leadership Development Institute Alumni at a special speed networking event designed to provide you with an opportunity to meet others who are doing great work in the community. Exchange professional information\, catch up with your classmates\, share your passions\, and look for opportunities to collaborate! This is sure to be an event you don’t want to miss!
URL:https://staging.spcf.org/event/glaa-speed-networking-connect-with-fellow-alumni/
LOCATION:Wild Wing Café\, 109 W Main St\, Spartanburg\, SC\, 29306\, United States
CATEGORIES:Grassroots Leadership Alumni Association Schedule
END:VEVENT
END:VCALENDAR