BEGIN:VCALENDAR
VERSION:2.0
PRODID:-//Spartanburg County Foundation - ECPv5.14.0.3//NONSGML v1.0//EN
CALSCALE:GREGORIAN
METHOD:PUBLISH
X-WR-CALNAME:Spartanburg County Foundation
X-ORIGINAL-URL:https://staging.spcf.org
X-WR-CALDESC:Events for Spartanburg County Foundation
BEGIN:VTIMEZONE
TZID:America/Halifax
BEGIN:DAYLIGHT
TZOFFSETFROM:-0400
TZOFFSETTO:-0300
TZNAME:ADT
DTSTART:20180311T060000
END:DAYLIGHT
BEGIN:STANDARD
TZOFFSETFROM:-0300
TZOFFSETTO:-0400
TZNAME:AST
DTSTART:20181104T050000
END:STANDARD
END:VTIMEZONE
BEGIN:VEVENT
DTSTART;TZID=America/Halifax:20180925T180000
DTEND;TZID=America/Halifax:20180925T190000
DTSTAMP:20260422T193729
CREATED:20180802T182544Z
LAST-MODIFIED:20180802T182544Z
UID:8978-1537898400-1537902000@staging.spcf.org
SUMMARY:GLAA Meet and Greet (GLAAM and Greet!)
DESCRIPTION:Join the Grassroots Leadership Alumni Association as we welcome our newest alumni members from GLDI Class of 2018! Socialize with the newest members of our growing alumni association over light refreshments. A cash bar will be available for additional beverage options.
URL:https://staging.spcf.org/event/glaa-meet-and-greet/
LOCATION:Wild Wing Café\, 109 W Main St\, Spartanburg\, SC\, 29306\, United States
CATEGORIES:Grassroots Leadership Alumni Association Schedule
END:VEVENT
END:VCALENDAR