BEGIN:VCALENDAR
VERSION:2.0
PRODID:-//Spartanburg County Foundation - ECPv5.14.0.3//NONSGML v1.0//EN
CALSCALE:GREGORIAN
METHOD:PUBLISH
X-WR-CALNAME:Spartanburg County Foundation
X-ORIGINAL-URL:https://staging.spcf.org
X-WR-CALDESC:Events for Spartanburg County Foundation
BEGIN:VTIMEZONE
TZID:America/Halifax
BEGIN:DAYLIGHT
TZOFFSETFROM:-0400
TZOFFSETTO:-0300
TZNAME:ADT
DTSTART:20180311T060000
END:DAYLIGHT
BEGIN:STANDARD
TZOFFSETFROM:-0300
TZOFFSETTO:-0400
TZNAME:AST
DTSTART:20181104T050000
END:STANDARD
END:VTIMEZONE
BEGIN:VEVENT
DTSTART;TZID=America/Halifax:20180628T120000
DTEND;TZID=America/Halifax:20180628T133000
DTSTAMP:20260422T214418
CREATED:20180721T131356Z
LAST-MODIFIED:20180721T131816Z
UID:8809-1530187200-1530192600@staging.spcf.org
SUMMARY:GLAA: Lunch with City and County Officials
DESCRIPTION:PANELISTS:\nJustin Bradley\, Spartanburg County Council (District 2); Verhonda Crawford\, Chesnee City Council; Michael Meissner\, Mayor of Pacolet; and Jerome Rice\, Spartanburg City Council (District 5)\, GLDI Class of 2007. \nSESSION DESCRIPTION:\nJoin us for a panel discussion with Spartanburg County elected officials as we explore what it takes to create and sustain a thriving community.  This session will offer the opportunity to hear from community leaders across Spartanburg County on their path to holding an elected position\, their specific roles\, key issues they are currently working to address\, and how you can partner with other leaders to bring positive change to your neighborhood!
URL:https://staging.spcf.org/event/glaa-lunch-with-city-and-county-officials/
LOCATION:West Main Artists Co-op\, 578 W Main St\, Spartanburg\, SC\, 29301\, United States
CATEGORIES:Grassroots Leadership Alumni Association Schedule
END:VEVENT
END:VCALENDAR