BEGIN:VCALENDAR
VERSION:2.0
PRODID:-//Spartanburg County Foundation - ECPv5.14.0.3//NONSGML v1.0//EN
CALSCALE:GREGORIAN
METHOD:PUBLISH
X-WR-CALNAME:Spartanburg County Foundation
X-ORIGINAL-URL:https://staging.spcf.org
X-WR-CALDESC:Events for Spartanburg County Foundation
BEGIN:VTIMEZONE
TZID:America/Halifax
BEGIN:DAYLIGHT
TZOFFSETFROM:-0400
TZOFFSETTO:-0300
TZNAME:ADT
DTSTART:20190310T060000
END:DAYLIGHT
BEGIN:STANDARD
TZOFFSETFROM:-0300
TZOFFSETTO:-0400
TZNAME:AST
DTSTART:20191103T050000
END:STANDARD
END:VTIMEZONE
BEGIN:VEVENT
DTSTART;TZID=America/Halifax:20191024T070000
DTEND;TZID=America/Halifax:20191024T190000
DTSTAMP:20260422T043522
CREATED:20190829T174207Z
LAST-MODIFIED:20190829T174207Z
UID:10190-1571900400-1571943600@staging.spcf.org
SUMMARY:Day Trip: Martin Luther King\, Jr. National Historical Park
DESCRIPTION:The Spartanburg Interfaith Alliance invites you to join them as they take a one-day trip to Atlanta\, Georgia to learn more about the African American struggle for civil rights in America and the role that religion played in that struggle. Explore Dr. King’s childhood home and the church where he shared a pulpit with his father for eight years. Learn more about the roots of the man who inspired hundreds to boycott and march for their basic civil rights. \n***To complete a trip registration form\, please contact Jasmine Guest at jguest@spcf.org for more information.***
URL:https://staging.spcf.org/event/day-trip-martin-luther-king-jr-national-historical-park/
LOCATION:Martin Luther King\, Jr. National Historical Park\, 450 Auburn Ave NE\, Atlanta\, GA\, 30312\, United States
END:VEVENT
END:VCALENDAR